BEGIN:VCALENDAR
VERSION:2.0
PRODID:-//The Official Bodega Bay Area Website - ECPv6.6.3//NONSGML v1.0//EN
CALSCALE:GREGORIAN
METHOD:PUBLISH
X-WR-CALNAME:The Official Bodega Bay Area Website
X-ORIGINAL-URL:https://staging.bodegabay.com
X-WR-CALDESC:Events for The Official Bodega Bay Area Website
REFRESH-INTERVAL;VALUE=DURATION:PT1H
X-Robots-Tag:noindex
X-PUBLISHED-TTL:PT1H
BEGIN:VTIMEZONE
TZID:America/Los_Angeles
BEGIN:DAYLIGHT
TZOFFSETFROM:-0800
TZOFFSETTO:-0700
TZNAME:PDT
DTSTART:20220313T100000
END:DAYLIGHT
BEGIN:STANDARD
TZOFFSETFROM:-0700
TZOFFSETTO:-0800
TZNAME:PST
DTSTART:20221106T090000
END:STANDARD
END:VTIMEZONE
BEGIN:VEVENT
DTSTART;TZID=America/Los_Angeles:20220925T100000
DTEND;TZID=America/Los_Angeles:20220925T140000
DTSTAMP:20260422T051703
CREATED:20220919T184730Z
LAST-MODIFIED:20220919T185031Z
UID:8988-1664100000-1664114400@staging.bodegabay.com
SUMMARY:Bodega Bay Community Farmers Market
DESCRIPTION:Memorial Day until the end of October the open-air BBCFM thrives behind the Bodega Bay Community Center at the north end of town. They offer the freshest\, locally grown produce specializing in organic\, heirloom\, and gourmet varieties of fruits and vegetables\, beef\, goat\, duck\, pork\, poultry\, and fish. Also available are eggs\, (duck and chicken)\, artisan bread\, olive oils\, and premium goat and cow cheeses. Try honey\, salsa\, hummus\, jams\, jellies\, and organic skin care products. A different Food Truck offers hot food each week…Croquettes and small plates\, Japanese\, Mexican\, BBQ…different offerings to tickle your palette.
URL:https://staging.bodegabay.com/event/bodega-bay-community-farmers-market/
LOCATION:Bodega Bay Community Center\, 2255 CA-1\, Bodega Bay\, CA\, 94923
ATTACH;FMTTYPE=image/jpeg:https://staging.bodegabay.com/wp-content/uploads/2022/09/Farmers-Market.jpg
END:VEVENT
BEGIN:VEVENT
DTSTART;TZID=America/Los_Angeles:20220911T100000
DTEND;TZID=America/Los_Angeles:20220911T160000
DTSTAMP:20260422T051703
CREATED:20220829T183722Z
LAST-MODIFIED:20220829T183722Z
UID:8974-1662890400-1662912000@staging.bodegabay.com
SUMMARY:Sonoma Coast Art & Wine
DESCRIPTION:A Day of Art and Wine Tasting on the Sonoma Coast in Jenner by the Sea. Local artists and wine showcased. Benefit for the Waves of Compassion Foundation. \nJewelry – Ceramics – Photography – Fused Glass Paintings: Plein Air\, Mixed Media & Abstract \nFree Admission. Open to the public. \n$10 Wine Tasting\, 21 and over \nArt: 10 a.m. – 4 p.m. \nWine Tasting: 12 p.m. – 4 p.m. \n 
URL:https://staging.bodegabay.com/event/sonoma-coast-art-wine-2/
LOCATION:Jenner Inn\, 10400 Hwy 1\, Jenner\, CA\, 95450\, United States
ATTACH;FMTTYPE=image/jpeg:https://staging.bodegabay.com/wp-content/uploads/2022/08/Sonoma-Coast-Art-Wine.jpg
END:VEVENT
BEGIN:VEVENT
DTSTART;TZID=America/Los_Angeles:20220910T100000
DTEND;TZID=America/Los_Angeles:20220910T160000
DTSTAMP:20260422T051703
CREATED:20220829T183311Z
LAST-MODIFIED:20220829T183630Z
UID:8965-1662804000-1662825600@staging.bodegabay.com
SUMMARY:Sonoma Coast Art & Wine
DESCRIPTION:A Day of Art and Wine Tasting on the Sonoma Coast in Jenner by the Sea. Local artists and wine showcased. Benefit for the Waves of Compassion Foundation. \nJewelry – Ceramics – Photography – Fused Glass Paintings: Plein Air\, Mixed Media & Abstract \nFree Admission. Open to the public. \n$10 Wine Tasting\, 21 and over \nArt: 10 a.m. – 4 p.m. \nWine Tasting: 12 p.m. – 4 p.m. \n 
URL:https://staging.bodegabay.com/event/sonoma-coast-art-wine/
LOCATION:Jenner Inn\, 10400 Hwy 1\, Jenner\, CA\, 95450\, United States
ATTACH;FMTTYPE=image/jpeg:https://staging.bodegabay.com/wp-content/uploads/2022/08/Sonoma-Coast-Art-Wine.jpg
END:VEVENT
BEGIN:VEVENT
DTSTART;TZID=America/Los_Angeles:20220612T140000
DTEND;TZID=America/Los_Angeles:20220612T170000
DTSTAMP:20260422T051703
CREATED:20220510T221339Z
LAST-MODIFIED:20220510T221919Z
UID:7012-1655042400-1655053200@staging.bodegabay.com
SUMMARY:Bach to Nature @ Bodega Head
DESCRIPTION:An afternoon of music with Insert Music Here along the stunning Sonoma Coast…  \nAttendees each receive a pair of headphones and will listen to the live music as it is broadcast direct from our solar-powered piano to the headphones. Bring your own folding chairs or blankets and setup where you’d like\, and feel free to get up\, walk around\, and wander the amazing area to explore while you listen.
URL:https://staging.bodegabay.com/event/bach-to-nature-bodega-head/
LOCATION:Bodega Head\, Westshore Road\, Bodega Bay\, CA\, 94923
ATTACH;FMTTYPE=image/jpeg:https://staging.bodegabay.com/wp-content/uploads/2022/05/insert-music-here.jpg
END:VEVENT
BEGIN:VEVENT
DTSTART;TZID=America/Los_Angeles:20220514T150000
DTEND;TZID=America/Los_Angeles:20220514T170000
DTSTAMP:20260422T051703
CREATED:20220510T214541Z
LAST-MODIFIED:20220510T215200Z
UID:7009-1652540400-1652547600@staging.bodegabay.com
SUMMARY:Pinot & Paella Party
DESCRIPTION:Come celebrate a perfect pairing of paella & pinot noir! Join us at our Bodega Bay tasting room for great wine\, live music\, freshly prepared paella\, and a guaranteed good time.
URL:https://staging.bodegabay.com/event/pinot-paella-party-2/
LOCATION:Sonoma Coast Vineyards\, 555 Highway 1\, Bodega Bay\, CA\, 94923
ATTACH;FMTTYPE=image/jpeg:https://staging.bodegabay.com/wp-content/uploads/2022/05/https-_cdn.evbuc_.com_images_226579649_237532039111_1_original.20220208-231127.jpg
END:VEVENT
BEGIN:VEVENT
DTSTART;TZID=America/Los_Angeles:20220514T110000
DTEND;TZID=America/Los_Angeles:20220514T130000
DTSTAMP:20260422T051703
CREATED:20220510T214453Z
LAST-MODIFIED:20220510T215254Z
UID:7005-1652526000-1652533200@staging.bodegabay.com
SUMMARY:Pinot & Paella Party
DESCRIPTION:Come celebrate a perfect pairing of paella & pinot noir! Join us at our Bodega Bay tasting room for great wine\, live music\, freshly prepared paella\, and a guaranteed good time.
URL:https://staging.bodegabay.com/event/pinot-paella-party/
LOCATION:Sonoma Coast Vineyards\, 555 Highway 1\, Bodega Bay\, CA\, 94923
ATTACH;FMTTYPE=image/jpeg:https://staging.bodegabay.com/wp-content/uploads/2022/05/https-_cdn.evbuc_.com_images_226579649_237532039111_1_original.20220208-231127.jpg
END:VEVENT
BEGIN:VEVENT
DTSTART;TZID=America/Los_Angeles:20220423T103000
DTEND;TZID=America/Los_Angeles:20220423T140000
DTSTAMP:20260422T051703
CREATED:20220411T025612Z
LAST-MODIFIED:20220411T030107Z
UID:6935-1650709800-1650722400@staging.bodegabay.com
SUMMARY:Chanslor Stables Spring Fling
DESCRIPTION:Silent Auction – Face Painting – Pony Rides – Petting Zoo – Food and more… \nAdmission Fee: Adult: $20 – Military: $15 – Bodega Locals: $15 – Senior: $10 – Children: $10 – $25 at the door \nProceeds go to Bodega Bay Law Enforcement and Fire Department and the Chanslor Stables Retired Horse Project to build a shelter!  \nCALL OR EMAIL TO RESERVE: (707) 589-5040 OR LAURYNN@FIVEBROOKS.COM
URL:https://staging.bodegabay.com/event/chanslor-stables-spring-fling/
LOCATION:2660 Highway One\, 2660 CA-1\, Bodega Bay\, CA\, 94923
END:VEVENT
END:VCALENDAR